BEGIN:VCALENDAR
VERSION:2.0
PRODID:icalendar-ruby
CALSCALE:GREGORIAN
BEGIN:VEVENT
DTSTAMP:20260420T083458Z
UID:da8b32d4-d3e4-40fe-b82b-64e551a95ff9
DTSTART:20260507T000000
DTEND:20260507T030000
DESCRIPTION:ExitWounds live in concert at The WC Social Club
LOCATION:The WC Social Club\, West Chicago\, IL\, USA
ORGANIZER:mailto:events@ampwrecked.com
SUMMARY:ExitWounds - ExitWounds at The WC Social Club
END:VEVENT
END:VCALENDAR
