BEGIN:VCALENDAR
VERSION:2.0
PRODID:icalendar-ruby
CALSCALE:GREGORIAN
BEGIN:VEVENT
DTSTAMP:20260420T083416Z
UID:2f51934d-e67e-4609-bcbe-183904b3f849
DTSTART:20260427T000000
DTEND:20260427T030000
DESCRIPTION:Thrown Away live in concert at Strummer's
LOCATION:Strummer's\, Fresno\, CA\, USA
ORGANIZER:mailto:events@ampwrecked.com
SUMMARY:Thrown Away - Thrown Away at Strummer's
END:VEVENT
END:VCALENDAR
