BEGIN:VCALENDAR
VERSION:2.0
PRODID:icalendar-ruby
CALSCALE:GREGORIAN
BEGIN:VEVENT
DTSTAMP:20260420T083255Z
UID:c9d3995d-bbf3-4a96-b2d5-ce0d8d03b748
DTSTART:20260522T000000
DTEND:20260522T030000
DESCRIPTION:Punkreas live in concert at PUNKREAS - DIY Tour 2026 @ Festival
  dell'Informazione Indipendente - Arco (TN)
LOCATION:PUNKREAS - DIY Tour 2026 @ Festival dell'Informazione Indipendente
  - Arco (TN)\, Arco\, \, Italy
ORGANIZER:mailto:events@ampwrecked.com
SUMMARY:Punkreas - Punkreas at PUNKREAS - DIY Tour 2026 @ Festival dell'Inf
 ormazione Indipendente - Arco (TN)
END:VEVENT
END:VCALENDAR
