BEGIN:VCALENDAR
VERSION:2.0
PRODID:icalendar-ruby
CALSCALE:GREGORIAN
BEGIN:VEVENT
DTSTAMP:20260420T083422Z
UID:3efc13da-d14b-4991-a420-4875ed34765b
DTSTART:20260328T000000
DTEND:20260328T030000
DESCRIPTION:sinema live in concert at Summit Music Hall
LOCATION:Summit Music Hall\, Denver\, CO\, USA
ORGANIZER:mailto:events@ampwrecked.com
SUMMARY:sinema - sinema at Summit Music Hall
END:VEVENT
END:VCALENDAR
