BEGIN:VCALENDAR
VERSION:2.0
PRODID:icalendar-ruby
CALSCALE:GREGORIAN
BEGIN:VEVENT
DTSTAMP:20260420T083308Z
UID:e8861244-f9df-4c66-b0aa-e7a0aa6fee53
DTSTART:20260821T000000
DTEND:20260821T030000
DESCRIPTION:Piss Leech live in concert at Konzerthaus Schüür
LOCATION:Konzerthaus Schüür\, Lucerne\, \, Switzerland
ORGANIZER:mailto:events@ampwrecked.com
SUMMARY:Piss Leech - Piss Leech at Konzerthaus Schüür
END:VEVENT
END:VCALENDAR
