BEGIN:VCALENDAR
VERSION:2.0
PRODID:icalendar-ruby
CALSCALE:GREGORIAN
BEGIN:VEVENT
DTSTAMP:20260420T083416Z
UID:11f3b95d-0e9b-4bfc-ba58-73444427cc5f
DTSTART:20260718T000000
DTEND:20260718T030000
DESCRIPTION:Mayday Parade live in concert at Yaamava' Poolside
LOCATION:Yaamava' Poolside\, Highland\, CA\, USA
ORGANIZER:mailto:events@ampwrecked.com
SUMMARY:Mayday Parade - Mayday Parade at Yaamava' Poolside
END:VEVENT
END:VCALENDAR
