BEGIN:VCALENDAR
VERSION:2.0
PRODID:icalendar-ruby
CALSCALE:GREGORIAN
BEGIN:VEVENT
DTSTAMP:20260420T083419Z
UID:59c1144d-dcda-4691-8958-5a41850706b4
DTSTART:20260529T000000
DTEND:20260529T030000
DESCRIPTION:Pig Destroyer live in concert at Salle Montaigne
LOCATION:Salle Montaigne\, Québec\, QC\, USA
ORGANIZER:mailto:events@ampwrecked.com
SUMMARY:Pig Destroyer - Pig Destroyer at Salle Montaigne
END:VEVENT
END:VCALENDAR
