BEGIN:VCALENDAR
VERSION:2.0
PRODID:icalendar-ruby
CALSCALE:GREGORIAN
BEGIN:VEVENT
DTSTAMP:20260420T123225Z
UID:c3ff52d6-7b02-4c2d-9c5b-6d84e7274ea3
DTSTART:20260522T000000
DTEND:20260522T030000
DESCRIPTION:Pig Destroyer live in concert at Crossroads
LOCATION:Crossroads\, Garwood\, NJ\, USA
ORGANIZER:mailto:events@ampwrecked.com
SUMMARY:Pig Destroyer - Pig Destroyer at Crossroads
END:VEVENT
END:VCALENDAR
