BEGIN:VCALENDAR
VERSION:2.0
PRODID:icalendar-ruby
CALSCALE:GREGORIAN
BEGIN:VEVENT
DTSTAMP:20260420T095529Z
UID:cf877d14-8337-4087-8fa6-47be16506be2
DTSTART:20260325T000000
DTEND:20260325T030000
DESCRIPTION:Knuckle Puck live in concert at Julia Davis Park
LOCATION:Julia Davis Park\, Boise\, ID\, USA
ORGANIZER:mailto:events@ampwrecked.com
SUMMARY:Knuckle Puck - Knuckle Puck at Julia Davis Park
END:VEVENT
END:VCALENDAR
