BEGIN:VCALENDAR
VERSION:2.0
PRODID:icalendar-ruby
CALSCALE:GREGORIAN
BEGIN:VEVENT
DTSTAMP:20260420T095706Z
UID:c215fdfc-c2b8-4027-9011-2001fa5c5e9e
DTSTART:20260324T000000
DTEND:20260324T030000
DESCRIPTION:Knuckle Puck live in concert at Revolution Hall
LOCATION:Revolution Hall\, Portland\, OR\, USA
ORGANIZER:mailto:events@ampwrecked.com
SUMMARY:Knuckle Puck - Knuckle Puck at Revolution Hall
END:VEVENT
END:VCALENDAR
