BEGIN:VCALENDAR
VERSION:2.0
PRODID:icalendar-ruby
CALSCALE:GREGORIAN
BEGIN:VEVENT
DTSTAMP:20260420T083255Z
UID:6dac6f33-e4d0-4682-9024-aefab309f6c3
DTSTART:20260516T000000
DTEND:20260516T030000
DESCRIPTION:Knocked Loose live in concert at Posthof Zeitkultur Am Hafen
LOCATION:Posthof Zeitkultur Am Hafen\, Linz\, \, Austria
ORGANIZER:mailto:events@ampwrecked.com
SUMMARY:Knocked Loose - Knocked Loose at Posthof Zeitkultur Am Hafen
END:VEVENT
END:VCALENDAR
