BEGIN:VCALENDAR
VERSION:2.0
PRODID:icalendar-ruby
CALSCALE:GREGORIAN
BEGIN:VEVENT
DTSTAMP:20260420T083253Z
UID:0a1edc02-de95-445c-91be-d1c9bb67ac95
DTSTART:20260927T000000
DTEND:20260927T030000
DESCRIPTION:Ok Pilocase live in concert at Oceans Calling 2026
LOCATION:Oceans Calling 2026\, Ocean City\, MD\, USA
ORGANIZER:mailto:events@ampwrecked.com
SUMMARY:Ok Pilocase - Ok Pilocase at Oceans Calling 2026
END:VEVENT
END:VCALENDAR
