BEGIN:VCALENDAR
VERSION:2.0
PRODID:icalendar-ruby
CALSCALE:GREGORIAN
BEGIN:VEVENT
DTSTAMP:20260420T104353Z
UID:6384d7e3-315d-40a4-81c0-be82a06f6585
DTSTART:20260409T000000
DTEND:20260409T030000
DESCRIPTION:From Ashes to New live in concert at SO36
LOCATION:SO36\, Berlin\, \, Germany
ORGANIZER:mailto:events@ampwrecked.com
SUMMARY:From Ashes to New - From Ashes to New at SO36
END:VEVENT
END:VCALENDAR
