BEGIN:VCALENDAR
VERSION:2.0
PRODID:icalendar-ruby
CALSCALE:GREGORIAN
BEGIN:VEVENT
DTSTAMP:20260420T083309Z
UID:f0112dca-3eb8-4bd6-9529-165b3454f942
DTSTART:20260410T000000
DTEND:20260410T030000
DESCRIPTION:The Test Dream live in concert at Arena CDMX
LOCATION:Arena CDMX\, Ciudad de México\, \, Mexico
ORGANIZER:mailto:events@ampwrecked.com
SUMMARY:The Test Dream - The Test Dream at Arena CDMX
END:VEVENT
END:VCALENDAR
