BEGIN:VCALENDAR
VERSION:2.0
PRODID:icalendar-ruby
CALSCALE:GREGORIAN
BEGIN:VEVENT
DTSTAMP:20260420T083307Z
UID:dcd8f31c-032f-483a-9fe3-d9dece8f4e0e
DTSTART:20260408T000000
DTEND:20260408T030000
DESCRIPTION:The Test Dream live in concert at Arena Monterrey
LOCATION:Arena Monterrey\, Monterrey\, \, Mexico
ORGANIZER:mailto:events@ampwrecked.com
SUMMARY:The Test Dream - The Test Dream at Arena Monterrey
END:VEVENT
END:VCALENDAR
