BEGIN:VCALENDAR
VERSION:2.0
PRODID:icalendar-ruby
CALSCALE:GREGORIAN
BEGIN:VEVENT
DTSTAMP:20260420T083415Z
UID:0eb54608-65d1-4134-a6e0-28aa468a4063
DTSTART:20260716T000000
DTEND:20260716T030000
DESCRIPTION:Upon A Burning Body live in concert at Rock Fest 2026
LOCATION:Rock Fest 2026\, Cadott\, WI\, USA
ORGANIZER:mailto:events@ampwrecked.com
SUMMARY:Upon A Burning Body - Upon A Burning Body at Rock Fest 2026
END:VEVENT
END:VCALENDAR
