BEGIN:VCALENDAR
VERSION:2.0
PRODID:icalendar-ruby
CALSCALE:GREGORIAN
BEGIN:VEVENT
DTSTAMP:20260420T104354Z
UID:cc545d6f-8f77-426f-9182-76f1b199f5b8
DTSTART:20260330T000000
DTEND:20260330T030000
DESCRIPTION:Fit For An Autopsy live in concert at Theater Of The Clouds
LOCATION:Theater Of The Clouds\, Portland\, OR\, USA
ORGANIZER:mailto:events@ampwrecked.com
SUMMARY:Fit For An Autopsy - Fit For An Autopsy at Theater Of The Clouds
END:VEVENT
END:VCALENDAR
