BEGIN:VCALENDAR
VERSION:2.0
PRODID:icalendar-ruby
CALSCALE:GREGORIAN
BEGIN:VEVENT
DTSTAMP:20260420T083459Z
UID:341bcf6a-f074-47f7-9f13-9d8aaa845031
DTSTART:20260328T000000
DTEND:20260328T030000
DESCRIPTION:Fit For An Autopsy live in concert at The Union Event Center
LOCATION:The Union Event Center\, Salt Lake City\, UT\, USA
ORGANIZER:mailto:events@ampwrecked.com
SUMMARY:Fit For An Autopsy - Fit For An Autopsy at The Union Event Center
END:VEVENT
END:VCALENDAR
