BEGIN:VCALENDAR
VERSION:2.0
PRODID:icalendar-ruby
CALSCALE:GREGORIAN
BEGIN:VEVENT
DTSTAMP:20260420T083415Z
UID:58c17e0c-5689-4d27-8284-143ae76749ff
DTSTART:20260327T000000
DTEND:20260327T030000
DESCRIPTION:Fit For An Autopsy live in concert at Fillmore Auditorium
LOCATION:Fillmore Auditorium\, Denver\, CO\, USA
ORGANIZER:mailto:events@ampwrecked.com
SUMMARY:Fit For An Autopsy - Fit For An Autopsy at Fillmore Auditorium
END:VEVENT
END:VCALENDAR
