BEGIN:VCALENDAR
VERSION:2.0
PRODID:icalendar-ruby
CALSCALE:GREGORIAN
BEGIN:VEVENT
DTSTAMP:20260420T083253Z
UID:f7345349-b731-4333-972c-48955302f5bf
DTSTART:20260408T000000
DTEND:20260408T030000
DESCRIPTION:Bleed From Within live in concert at Mr. Smalls Theatre\, Funho
 use & Café
LOCATION:Mr. Smalls Theatre\, Funhouse & Café\, Millvale\, PA\, USA
ORGANIZER:mailto:events@ampwrecked.com
SUMMARY:Bleed From Within - Bleed From Within at Mr. Smalls Theatre\, Funho
 use & Café
END:VEVENT
END:VCALENDAR
