BEGIN:VCALENDAR
VERSION:2.0
PRODID:icalendar-ruby
CALSCALE:GREGORIAN
BEGIN:VEVENT
DTSTAMP:20260420T083421Z
UID:cc56938b-717c-47cc-894d-a25549df282c
DTSTART:20260407T000000
DTEND:20260407T030000
DESCRIPTION:Bleed From Within live in concert at The Roxy
LOCATION:The Roxy\, Lakewood\, OH\, USA
ORGANIZER:mailto:events@ampwrecked.com
SUMMARY:Bleed From Within - Bleed From Within at The Roxy
END:VEVENT
END:VCALENDAR
