BEGIN:VCALENDAR
VERSION:2.0
PRODID:icalendar-ruby
CALSCALE:GREGORIAN
BEGIN:VEVENT
DTSTAMP:20260420T083222Z
UID:7ebe0782-167c-479e-97c6-1228f6341494
DTSTART:20260406T000000
DTEND:20260406T030000
DESCRIPTION:Bleed From Within live in concert at Theatre of Living Arts
LOCATION:Theatre of Living Arts\, Philadelphia\, PA\, USA
ORGANIZER:mailto:events@ampwrecked.com
SUMMARY:Bleed From Within - Bleed From Within at Theatre of Living Arts
END:VEVENT
END:VCALENDAR
