BEGIN:VCALENDAR
VERSION:2.0
PRODID:icalendar-ruby
CALSCALE:GREGORIAN
BEGIN:VEVENT
DTSTAMP:20260420T083308Z
UID:c52701d6-e571-4b65-af26-80d1090e66db
DTSTART:20260331T000000
DTEND:20260331T030000
DESCRIPTION:The Maine live in concert at Showbox SoDo
LOCATION:Showbox SoDo\, Seattle\, WA\, USA
ORGANIZER:mailto:events@ampwrecked.com
SUMMARY:The Maine - The Maine at Showbox SoDo
END:VEVENT
END:VCALENDAR
